BEGIN:VCALENDAR
PRODID:-//github.com/rianjs/ical.net//NONSGML ical.net 4.0//EN
VERSION:2.0
BEGIN:VEVENT
DESCRIPTION:Details:\nhttps://bbyo.org/bbyo-near-you/regions/northern-regi
 on-east-northern-virginia-council/nretreat-northern-region-east-retreat-2
 018-(2)
DTEND:20180825T220000
DTSTAMP:20260421T141321Z
DTSTART:20180824T100000
LOCATION:
SEQUENCE:0
SUMMARY:NREtreat: Northern Region East Retreat 2018
UID:5a53d549-5dc9-48c3-96e9-6dac5be40b80
END:VEVENT
END:VCALENDAR
