BEGIN:VCALENDAR
PRODID:-//github.com/rianjs/ical.net//NONSGML ical.net 4.0//EN
VERSION:2.0
BEGIN:VEVENT
DESCRIPTION:Details:\nhttps://bbyo.org/bbyo-near-you/regions/greater-jerse
 y-region/gjhrr-summer-promo-call-(1)\n\nSummary:\nCome join GJHRR and the
  Summer Immersive Team to learn about all of the amaxing summer experienc
 es that BBYO has to offer!!!! \n\n\n\nLink to follow!!!
DTEND:20230326T200000
DTSTAMP:20260423T062029Z
DTSTART:20230326T190000
LOCATION:Zoom
SEQUENCE:0
SUMMARY:GJHRR Summer Promo Call
UID:65e77ba8-621a-4b83-b439-557a208f08e4
END:VEVENT
END:VCALENDAR
