BEGIN:VCALENDAR
PRODID:-//github.com/rianjs/ical.net//NONSGML ical.net 4.0//EN
VERSION:2.0
BEGIN:VEVENT
DESCRIPTION:Details:\nhttps://bbyo.org/bbyo-near-you/regions/northern-regi
 on-east-northern-virginia-council/nova-council-convention\n\nSummary:\nCo
 me join NoVA for a weekend of fun and bonding! We will be celebrating the
  end of the year with the State Address\, Shabbat\, elections of the new 
 board and more!
DTEND;VALUE=DATE:20160417
DTSTAMP:20260420T180505Z
DTSTART;VALUE=DATE:20160415
LOCATION:Sandy Hill Camp and Retreat Center!
SEQUENCE:0
SUMMARY:NoVA Council Convention
UID:eaeb90b8-024e-40c8-b985-212f57b16d99
END:VEVENT
END:VCALENDAR
