BEGIN:VCALENDAR
PRODID:-//github.com/rianjs/ical.net//NONSGML ical.net 4.0//EN
VERSION:2.0
BEGIN:VEVENT
DESCRIPTION:Details:\nhttps://bbyo.org/bbyo-near-you/regions/michigan-regi
 on/regional-kickoff-at-whirlyball
DTEND:20220129T220000
DTSTAMP:20260424T115924Z
DTSTART:20220129T200000
LOCATION:Novi Michigan
SEQUENCE:0
SUMMARY:Regional Kickoff at Whirlyball
UID:b8c544cf-ca76-48df-ae67-991b7e55ca8f
END:VEVENT
END:VCALENDAR
