BEGIN:VCALENDAR
PRODID:-//github.com/rianjs/ical.net//NONSGML ical.net 4.0//EN
VERSION:2.0
BEGIN:VEVENT
DESCRIPTION:Details:\nhttps://bbyo.org/bbyo-near-you/regions/great-midwest
 -region/gmr-good-deeds-day
DTEND:20230416T164500
DTSTAMP:20260421T073056Z
DTSTART:20230416T120000
LOCATION:Anshe Emet
SEQUENCE:0
SUMMARY:GMR Good Deeds Day
UID:94e191a7-ecf2-4d14-80a6-bdc56b18b1d8
END:VEVENT
END:VCALENDAR
