BEGIN:VCALENDAR
PRODID:-//github.com/rianjs/ical.net//NONSGML ical.net 4.0//EN
VERSION:2.0
BEGIN:VEVENT
DESCRIPTION:Details:\nhttps://bbyo.org/bbyo-near-you/regions/gold-coast-re
 gion/gcr-fall-convention-(1)
DTEND;VALUE=DATE:20211107
DTSTAMP:20260421T221243Z
DTSTART;VALUE=DATE:20211105
LOCATION:Coral Springs Marriott
SEQUENCE:0
SUMMARY:GCR Fall Convention
UID:b64fd1b8-1d96-408a-b156-858b321ecd84
END:VEVENT
END:VCALENDAR
