BEGIN:VCALENDAR
PRODID:-//github.com/rianjs/ical.net//NONSGML ical.net 4.0//EN
VERSION:2.0
BEGIN:VEVENT
DESCRIPTION:Details:\nhttps://bbyo.org/bbyo-near-you/regions/wisconsin-reg
 ion/wi-aza-fall-fest-2019-bucks-watch-party\n\nSummary:\nJoin Wisconsin R
 egion Alephs for an awesome indoor tailgate: spikeball\, snacks\, and mos
 t importantly\, the Bucks game on the big screen. \n\nBring your own tail
 gate chair!
DTEND:20191102T220000
DTSTAMP:20260420T180507Z
DTSTART:20191102T184500
LOCATION:
SEQUENCE:0
SUMMARY:WI - AZA Fall Fest 2019 - Bucks Watch Party
UID:baecdbdf-0a36-412e-a664-b65141499910
END:VEVENT
END:VCALENDAR
