BEGIN:VCALENDAR
PRODID:-//github.com/rianjs/ical.net//NONSGML ical.net 4.0//EN
VERSION:2.0
BEGIN:VEVENT
DESCRIPTION:Details:\nhttps://bbyo.org/bbyo-near-you/regions/mid-america-r
 egion-omaha-council/council-goga-(goat-yoga)\n\nSummary:\nWhat's better t
 han Yoga by yourself?  Doing Yoga with your BBYO friends and Nigerian dwa
 rf goats!  Spend the evening participating in Goat Yoga at the JCC.  We w
 ill meet in the Library\, and
DTEND:20190923T193000
DTSTAMP:20260425T194411Z
DTSTART:20190923T180000
LOCATION:Omaha Nebraska
SEQUENCE:0
SUMMARY:Council GoGa (Goat Yoga)
UID:6b045dc2-280e-45a8-b0ad-49f73f105603
END:VEVENT
END:VCALENDAR
