BEGIN:VCALENDAR
PRODID:-//github.com/rianjs/ical.net//NONSGML ical.net 4.0//EN
VERSION:2.0
BEGIN:VEVENT
DESCRIPTION:Details:\nhttps://bbyo.org/bbyo-near-you/regions/northern-regi
 on-east-dc-council/dc-council-preference-night-(1)
DTEND:20210918T220000
DTSTAMP:20260423T200907Z
DTSTART:20210918T190000
LOCATION:Bender JCC in Rockville
SEQUENCE:0
SUMMARY:DC Council Preference Night
UID:f9b59034-dbcb-4865-8732-c4dcb49e438d
END:VEVENT
END:VCALENDAR
