BEGIN:VCALENDAR
PRODID:-//github.com/rianjs/ical.net//NONSGML ical.net 4.0//EN
VERSION:2.0
BEGIN:VEVENT
DESCRIPTION:Details:\nhttps://bbyo.org/bbyo-near-you/regions/north-texas-o
 klahoma-region/azaa-lewis-vs-kaplan-championship-game
DTEND:20231112T180000
DTSTAMP:20260419T123224Z
DTSTART:20231112T170000
LOCATION:JCC
SEQUENCE:0
SUMMARY:AZAA: Lewis vs Kaplan Championship Game
UID:b7a1ebff-ddc2-418d-aa98-e18a1df7b4d3
END:VEVENT
END:VCALENDAR
