BEGIN:VCALENDAR
PRODID:-//github.com/rianjs/ical.net//NONSGML ical.net 4.0//EN
VERSION:2.0
BEGIN:VEVENT
DESCRIPTION:Details:\nhttps://bbyo.org/bbyo-near-you/regions/gold-coast-re
 gion/camp-livingston-(1)
DTEND;VALUE=DATE:20160629
DTSTAMP:20260423T063003Z
DTSTART;VALUE=DATE:20160629
LOCATION:
SEQUENCE:0
SUMMARY:Camp Livingston
UID:3efd4976-8f1e-4728-b994-98a646ddec38
END:VEVENT
END:VCALENDAR
