BEGIN:VCALENDAR
PRODID:-//github.com/rianjs/ical.net//NONSGML ical.net 4.0//EN
VERSION:2.0
BEGIN:VEVENT
DESCRIPTION:Details:\nhttps://bbyo.org/bbyo-near-you/regions/hudson-valley
 -region/hvr-j-serve-2024-silent-disco-honoring-the-nova-mu
DTEND:20240413T220000
DTSTAMP:20260426T044423Z
DTSTART:20240413T200000
LOCATION:Port Chester\, NY
SEQUENCE:0
SUMMARY:HVR J-Serve 2024: Silent Disco Honoring the Nova Music Festival
UID:8ff06d63-3df3-40be-bb61-99ab95d4871c
END:VEVENT
END:VCALENDAR
