BEGIN:VCALENDAR
PRODID:-//github.com/rianjs/ical.net//NONSGML ical.net 4.0//EN
VERSION:2.0
BEGIN:VEVENT
DESCRIPTION:Details:\nhttps://bbyo.org/bbyo-near-you/regions/michigan-regi
 on/membership-party-with-courtney-saxe!
DTEND:20240312T183000
DTSTAMP:20260422T113350Z
DTSTART:20240312T163000
LOCATION:BBYO Office
SEQUENCE:0
SUMMARY:Membership Party with Courtney Saxe!
UID:5bc37967-6391-44de-958d-f2fa7c29b990
END:VEVENT
END:VCALENDAR
