BEGIN:VCALENDAR
PRODID:-//github.com/rianjs/ical.net//NONSGML ical.net 4.0//EN
VERSION:2.0
BEGIN:VEVENT
DESCRIPTION:Details:\nhttps://bbyo.org/bbyo-near-you/regions/northern-regi
 on-east-dc-council/dc-council-fall-field-day
DTEND:20210912T150000
DTSTAMP:20260424T102132Z
DTSTART:20210912T123000
LOCATION:Bender JCC in Rockville
SEQUENCE:0
SUMMARY:DC Council Fall Field Day
UID:9247c85e-500c-4745-bcdc-ab2e37cd0dfb
END:VEVENT
END:VCALENDAR
