BEGIN:VCALENDAR
PRODID:-//github.com/rianjs/ical.net//NONSGML ical.net 4.0//EN
VERSION:2.0
BEGIN:VEVENT
DESCRIPTION:Details:\nhttps://bbyo.org/bbyo-near-you/regions/new-england-r
 egion/leadership-series-cooking-with-bbyo-(1)\n\nSummary:\nCome cook with
  our advisor\, David! He has been to culinary school and has some good te
 chniques to share with you!
DTEND:20200804T173000
DTSTAMP:20260423T002725Z
DTSTART:20200804T160000
LOCATION:BBYO On Demand
SEQUENCE:0
SUMMARY:Leadership Series: Cooking with BBYO
UID:cac486b5-8080-45c9-ba01-220b0b5217e3
END:VEVENT
END:VCALENDAR
