BEGIN:VCALENDAR
PRODID:-//github.com/rianjs/ical.net//NONSGML ical.net 4.0//EN
VERSION:2.0
BEGIN:VEVENT
DESCRIPTION:Details:\nhttps://bbyo.org/bbyo-near-you/regions/connecticut-v
 alley-region/regional-kickoff\n\nSummary:\nJoin CVR teens for THE regiona
 l kickoff event of the season. Enjoy a night of meeting teens from around
  the region and making new friends in a fun environment. Get ready for a 
 night full of
DTEND:20181013T230000
DTSTAMP:20260423T042647Z
DTSTART:20181013T200000
LOCATION:Spare Time Bristol
SEQUENCE:0
SUMMARY:Regional Kickoff
UID:6585b649-2de1-4bb2-b739-dfb4cb27e730
END:VEVENT
END:VCALENDAR
