BEGIN:VCALENDAR
PRODID:-//github.com/rianjs/ical.net//NONSGML ical.net 4.0//EN
VERSION:2.0
BEGIN:VEVENT
DESCRIPTION:Details:\nhttps://bbyo.org/bbyo-near-you/regions/new-england-r
 egion/ner-rlti-2015-(pc3010)\n\nSummary:\nRegional Leadership Training In
 stitute for all members kicks off our programming year.  Teens from throu
 ghout the region will be joined by teens from CVR\, BAR\, Manhattan and W
 estchester for
DTEND:20150823T163000
DTSTAMP:20260422T202650Z
DTSTART:20150821T093000
LOCATION:Sheraton Hartford Hotel
SEQUENCE:0
SUMMARY:NER - RLTI 2015 - (PC3010)
UID:e637b8c2-7dee-4791-9a23-6e1e14654cdf
END:VEVENT
END:VCALENDAR
