BEGIN:VCALENDAR
PRODID:-//github.com/rianjs/ical.net//NONSGML ical.net 4.0//EN
VERSION:2.0
BEGIN:VEVENT
DESCRIPTION:Details:\nhttps://bbyo.org/bbyo-near-you/regions/mid-america-r
 egion-kansas-city-council/saadia/saadia-kickoff-brunch
DTEND:20240915T123000
DTSTAMP:20260421T100639Z
DTSTART:20240915T104500
LOCATION:Meadowbrook Park
SEQUENCE:0
SUMMARY:Saadia Kickoff Brunch
UID:e9979ed2-62c5-40aa-8bd6-ed58e1fcab93
END:VEVENT
END:VCALENDAR
