BEGIN:VCALENDAR
PRODID:-//github.com/rianjs/ical.net//NONSGML ical.net 4.0//EN
VERSION:2.0
BEGIN:VEVENT
DESCRIPTION:Details:\nhttps://bbyo.org/bbyo-near-you/regions/north-texas-o
 klahoma-region/nto-regionals-2021-steering-meeting-2
DTEND:20211205T160000
DTSTAMP:20260426T013232Z
DTSTART:20211205T150000
LOCATION:TBD
SEQUENCE:0
SUMMARY:NTO Regionals 2021 Steering Meeting 2
UID:4aba7f5c-004a-4cb7-b904-e0f5df9407d2
END:VEVENT
END:VCALENDAR
