BEGIN:VCALENDAR
PRODID:-//github.com/rianjs/ical.net//NONSGML ical.net 4.0//EN
VERSION:2.0
BEGIN:VEVENT
DESCRIPTION:Details:\nhttps://bbyo.org/bbyo-near-you/regions/northern-regi
 on-east-baltimore-council/baltimore-council-convention-chofesh-hangout-g-
 (2)
DTEND:20210424T173000
DTSTAMP:20260420T103348Z
DTSTART:20210424T160000
LOCATION:Owings Mills Maryland
SEQUENCE:0
SUMMARY:Baltimore Council Convention Chofesh: Hangout Group 3
UID:2d214a27-3e1d-47a2-bf2f-833df733e949
END:VEVENT
END:VCALENDAR
