BEGIN:VCALENDAR
PRODID:-//github.com/rianjs/ical.net//NONSGML ical.net 4.0//EN
VERSION:2.0
BEGIN:VEVENT
DESCRIPTION:Details:\nhttps://bbyo.org/bbyo-near-you/regions/nassau-suffol
 k-region/nsr-brotherhood-overnight-2018
DTEND;VALUE=DATE:20180603
DTSTAMP:20260422T113307Z
DTSTART;VALUE=DATE:20180602
LOCATION:
SEQUENCE:0
SUMMARY:NSR Brotherhood Overnight 2018
UID:535808da-e719-41b6-86ca-a34a05f7f837
END:VEVENT
END:VCALENDAR
