BEGIN:VCALENDAR
PRODID:-//github.com/rianjs/ical.net//NONSGML ical.net 4.0//EN
VERSION:2.0
BEGIN:VEVENT
DESCRIPTION:Details:\nhttps://bbyo.org/bbyo-near-you/regions/rocky-mountai
 n-region/rmr-fallcon-2020\n\nSummary:\nJoin us for our first convention o
 f the year! Featuring a combination of in person and online programming\,
  the coolest convention swag and our favorite traditions!
DTEND:20201018T130000
DTSTAMP:20260425T182938Z
DTSTART:20201016T180000
LOCATION:
SEQUENCE:0
SUMMARY:RMR FallCon 2020
UID:e98d3941-2340-4bc6-b758-b2b52549cb90
END:VEVENT
END:VCALENDAR
