BEGIN:VCALENDAR
PRODID:-//github.com/rianjs/ical.net//NONSGML ical.net 4.0//EN
VERSION:2.0
BEGIN:VEVENT
DESCRIPTION:Details:\nhttps://bbyo.org/bbyo-near-you/regions/lonestar-regi
 on/houston-motek-reveal-(1)
DTEND:20240210T203000
DTSTAMP:20260425T235443Z
DTSTART:20240210T190000
LOCATION:The Merfish
SEQUENCE:0
SUMMARY:Houston Motek Reveal
UID:21e68db7-b273-49b3-8dd1-f49b56170f34
END:VEVENT
END:VCALENDAR
