BEGIN:VCALENDAR
PRODID:-//github.com/rianjs/ical.net//NONSGML ical.net 4.0//EN
VERSION:2.0
BEGIN:VEVENT
DESCRIPTION:Details:\nhttps://bbyo.org/bbyo-near-you/regions/rocky-mountai
 n-region/1387-park-day
DTEND:20170402T160000
DTSTAMP:20260422T113859Z
DTSTART:20170402T140000
LOCATION:Westlands Park\, 5701 S Quebec St\, Greenwood Village\, CO 80111
SEQUENCE:0
SUMMARY:1387 Park Day
UID:6b7614ac-b814-4f97-b72d-69ba40fdf735
END:VEVENT
END:VCALENDAR
