BEGIN:VCALENDAR
PRODID:-//github.com/rianjs/ical.net//NONSGML ical.net 4.0//EN
VERSION:2.0
BEGIN:VEVENT
DESCRIPTION:Details:\nhttps://bbyo.org/bbyo-near-you/regions/south-jersey-
 region/spring-2020-board-training-institute\n\nSummary:\nWe will be getti
 ng together and training for the Spring Term! We will be creating your ch
 apter calendar\, spending time with your counterparts\, and more!\n\nLunc
 h will be served.
DTEND:20200126T140000
DTSTAMP:20260422T101255Z
DTSTART:20200126T100000
LOCATION:JCC Camps at Medford
SEQUENCE:0
SUMMARY:Spring 2020 Board Training Institute
UID:5c2a764c-04a7-496b-882d-ff91974527e7
END:VEVENT
END:VCALENDAR
