BEGIN:VCALENDAR
PRODID:-//github.com/rianjs/ical.net//NONSGML ical.net 4.0//EN
VERSION:2.0
BEGIN:VEVENT
DESCRIPTION:Details:\nhttps://bbyo.org/bbyo-near-you/regions/great-midwest
 -region/invite-convention-2023\n\nSummary:\nGMR's biggest and most spirit
 ed Convention of the year is back! Invite Convention is the best time of 
 the year for fun chapter competitions\, teen-led programming\, Shabbat an
 d Hanukkah Celebrations\, meeting friends from across the region\, and so
  much more!
DTEND:20231203T150000
DTSTAMP:20260423T083052Z
DTSTART:20231201T170000
LOCATION:Northbrook Illinois
SEQUENCE:0
SUMMARY:Invite Convention 2023
UID:8eaa696e-bca4-44f4-bea3-b510ba36b884
END:VEVENT
END:VCALENDAR
