BEGIN:VCALENDAR
PRODID:-//github.com/rianjs/ical.net//NONSGML ical.net 4.0//EN
VERSION:2.0
BEGIN:VEVENT
DESCRIPTION:Details:\nhttps://bbyo.org/bbyo-near-you/regions/rocky-mountai
 n-region/september-denver-chapter-meeting-9-4
DTEND:20180904T203000
DTSTAMP:20260423T042746Z
DTSTART:20180904T191500
LOCATION:Denver Colorado
SEQUENCE:0
SUMMARY:September Denver Chapter Meeting 9/4
UID:c31b710b-4d2f-4f89-9c7b-67ae6ec4ac2f
END:VEVENT
END:VCALENDAR
