BEGIN:VCALENDAR
PRODID:-//github.com/rianjs/ical.net//NONSGML ical.net 4.0//EN
VERSION:2.0
BEGIN:VEVENT
DESCRIPTION:Details:\nhttps://bbyo.org/bbyo-near-you/regions/rocky-mountai
 n-region/northern-colorado-kickoff
DTEND:20230910T160000
DTSTAMP:20260419T122609Z
DTSTART:20230910T140000
LOCATION:Loveland Laser Tag
SEQUENCE:0
SUMMARY:Northern Colorado Kickoff
UID:651900fc-6dc4-483a-91fa-769078522521
END:VEVENT
END:VCALENDAR
