BEGIN:VCALENDAR
PRODID:-//github.com/rianjs/ical.net//NONSGML ical.net 4.0//EN
VERSION:2.0
BEGIN:VEVENT
DESCRIPTION:Details:\nhttps://bbyo.org/bbyo-near-you/regions/gold-coast-re
 gion/gcr-spring-regional-convention-2023
DTEND:20230402T120000
DTSTAMP:20260420T134216Z
DTSTART:20230331T170000
LOCATION:Sheraton Suites Fort Lauderdale at Cypress Creek
SEQUENCE:0
SUMMARY:GCR Spring Regional Convention 2023
UID:81b15387-3dfe-493e-a8e3-cfbd8e4410f1
END:VEVENT
END:VCALENDAR
