BEGIN:VCALENDAR
PRODID:-//github.com/rianjs/ical.net//NONSGML ical.net 4.0//EN
VERSION:2.0
BEGIN:VEVENT
DESCRIPTION:Details:\nhttps://bbyo.org/bbyo-near-you/regions/michigan-regi
 on/open-house\n\nSummary:\nJoin us to learn more about BBYO\, Michigan Re
 gion\, and our chapters! Meet chapter and regional leaders!
DTEND:20200301T150000
DTSTAMP:20260425T235408Z
DTSTART:20200301T130000
LOCATION:JCC West Bloomfield
SEQUENCE:0
SUMMARY:Open House
UID:ba1d6eb7-3f1e-46c5-a95e-94ccbb660ff4
END:VEVENT
END:VCALENDAR
