BEGIN:VCALENDAR
PRODID:-//github.com/rianjs/ical.net//NONSGML ical.net 4.0//EN
VERSION:2.0
BEGIN:VEVENT
DESCRIPTION:Details:\nhttps://bbyo.org/bbyo-near-you/regions/great-midwest
 -region/ometz/feed-my-starving-children-ometz
DTEND:20220928T204500
DTSTAMP:20260422T221743Z
DTSTART:20220928T190000
LOCATION:Libertyville  Illinois
SEQUENCE:0
SUMMARY:Feed My Starving Children- Ometz
UID:ce5a464b-044c-4e72-8a54-076875645423
END:VEVENT
END:VCALENDAR
