BEGIN:VCALENDAR
PRODID:-//github.com/rianjs/ical.net//NONSGML ical.net 4.0//EN
VERSION:2.0
BEGIN:VEVENT
DESCRIPTION:Details:\nhttps://bbyo.org/bbyo-near-you/regions/new-england-r
 egion/ner-january-leadership-training-institute-2020\n\nSummary:\nLeaders
 hip Training Institute (LTI) is for all chapter leaders and any BBYO memb
 er. The focus of the day will be training our leaders to successfully lea
 d their chapter throughout the rest o
DTEND:20200105T170000
DTSTAMP:20260419T213553Z
DTSTART:20200105T100000
LOCATION:Newton Massachusetts
SEQUENCE:0
SUMMARY:NER January Leadership Training Institute 2020
UID:9d82221b-0a2e-4001-a6af-1b33765b9875
END:VEVENT
END:VCALENDAR
