BEGIN:VCALENDAR
PRODID:-//github.com/rianjs/ical.net//NONSGML ical.net 4.0//EN
VERSION:2.0
BEGIN:VEVENT
DESCRIPTION:Details:\nhttps://bbyo.org/bbyo-near-you/regions/mid-america-r
 egion-north-star-council/north-star-weekly-program-(3)
DTEND:20240411T200000
DTSTAMP:20260423T093212Z
DTSTART:20240411T190000
LOCATION:Minneapolis Minnesota
SEQUENCE:0
SUMMARY:North Star Weekly Program
UID:6067d254-c779-4567-b1c5-c4e94f68b0ac
END:VEVENT
END:VCALENDAR
