BEGIN:VCALENDAR
PRODID:-//github.com/rianjs/ical.net//NONSGML ical.net 4.0//EN
VERSION:2.0
BEGIN:VEVENT
DESCRIPTION:Details:\nhttps://bbyo.org/bbyo-near-you/regions/lonestar-regi
 on/houston-bbgg-at-define-rev-session-2\n\nSummary:\nJoin our older membe
 rs for some BBGG (B'nai B'rith Girls Games) at Define's River Oaks studio
 ! Maximum of 15 per session\, so sign up asap!\n\n \n\nCost: $30 for non-
 members and $25 for 8th grade
DTEND:20210117T151500
DTSTAMP:20260423T002102Z
DTSTART:20210117T141500
LOCATION:Define | River Oaks
SEQUENCE:0
SUMMARY:Houston BBGG at Define Rev Session 2
UID:408e8b44-9a32-4e33-9429-5ff22206e8f8
END:VEVENT
END:VCALENDAR
