BEGIN:VCALENDAR
PRODID:-//github.com/rianjs/ical.net//NONSGML ical.net 4.0//EN
VERSION:2.0
BEGIN:VEVENT
DESCRIPTION:Details:\nhttps://bbyo.org/bbyo-near-you/regions/mid-america-r
 egion-north-star-council/mar-fall-regional-convention-2023
DTEND:20231112T120000
DTSTAMP:20260422T065103Z
DTSTART:20231110T160000
LOCATION:
SEQUENCE:0
SUMMARY:MAR Fall Regional Convention 2023
UID:05a814f0-2328-4e57-815c-b8e46ecafcc2
END:VEVENT
END:VCALENDAR
