BEGIN:VCALENDAR
PRODID:-//github.com/rianjs/ical.net//NONSGML ical.net 4.0//EN
VERSION:2.0
BEGIN:VEVENT
DESCRIPTION:Details:\nhttps://bbyo.org/bbyo-near-you/regions/lonestar-regi
 on/rubin-x-litzor-peter-pan-golf\n\nSummary:\nIt's time for Liztor and Ru
 bin to get together and have some fun! \n\n$9 for Mini Golf + $$$ for P. 
 Terry's\n\n
DTEND:20230326T180000
DTSTAMP:20260423T071127Z
DTSTART:20230326T150000
LOCATION:Peter Pan Mini Golf
SEQUENCE:0
SUMMARY:Rubin x Litzor Peter Pan Golf
UID:bdcb98ee-7e52-43a4-952c-5d9f3d43a156
END:VEVENT
END:VCALENDAR
