BEGIN:VCALENDAR
PRODID:-//github.com/rianjs/ical.net//NONSGML ical.net 4.0//EN
VERSION:2.0
BEGIN:VEVENT
DESCRIPTION:Details:\nhttps://bbyo.org/bbyo-near-you/regions/greater-atlan
 ta-region/color-me-kickoff-2018\n\nSummary:\nCome join your BBYO friends 
 and meet new teens at Color Me Kickoff\, a festival with entertainment\, 
 games\, color dye\, and more. First 250 registrants get a free t-shirt.
DTEND:20180805T170000
DTSTAMP:20260420T100604Z
DTSTART:20180805T140000
LOCATION:Dunwoody Georgia
SEQUENCE:0
SUMMARY:Color Me Kickoff 2018
UID:4de1619b-efb8-42f3-90b9-1af4ccf0291d
END:VEVENT
END:VCALENDAR
