BEGIN:VCALENDAR
PRODID:-//github.com/rianjs/ical.net//NONSGML ical.net 4.0//EN
VERSION:2.0
BEGIN:VEVENT
DESCRIPTION:Details:\nhttps://bbyo.org/bbyo-near-you/regions/wisconsin-reg
 ion/chapter-night-@-sinai-january
DTEND:20240108T203000
DTSTAMP:20260423T195258Z
DTSTART:20240108T190000
LOCATION:Sinai
SEQUENCE:0
SUMMARY:Chapter Night @ Sinai January
UID:a2955b44-94a0-47e9-8fd8-4b09a88f0b5b
END:VEVENT
END:VCALENDAR
