BEGIN:VCALENDAR
PRODID:-//github.com/rianjs/ical.net//NONSGML ical.net 4.0//EN
VERSION:2.0
BEGIN:VEVENT
DESCRIPTION:Details:\nhttps://bbyo.org/bbyo-near-you/regions/lonestar-regi
 on/lsr-spring-con-steering-week-1
DTEND:20240229T200000
DTSTAMP:20260419T190320Z
DTSTART:20240229T183000
LOCATION:
SEQUENCE:0
SUMMARY:LSR Spring Con Steering Week 1
UID:ae89a333-882b-4906-91f3-a316c302de70
END:VEVENT
END:VCALENDAR
