BEGIN:VCALENDAR
PRODID:-//github.com/rianjs/ical.net//NONSGML ical.net 4.0//EN
VERSION:2.0
BEGIN:VEVENT
DESCRIPTION:Details:\nhttps://bbyo.org/bbyo-near-you/regions/lake-ontario-
 region/bbg-tea-party-with-noga-(south-chapters)\n\nSummary:\nJoin Noga\, 
 the International N'Siah for a Tea Party celebrating BBG at 75 years. Con
 tact info@bbyo.ca for more information.
DTEND:20190409T173000
DTSTAMP:20260419T145929Z
DTSTART:20190409T163000
LOCATION:Prosserman JCC
SEQUENCE:0
SUMMARY:BBG Tea Party with Noga (South Chapters)
UID:73581ae5-3229-43cd-a0b5-114813ce083b
END:VEVENT
END:VCALENDAR
