BEGIN:VCALENDAR
PRODID:-//github.com/rianjs/ical.net//NONSGML ical.net 4.0//EN
VERSION:2.0
BEGIN:VEVENT
DESCRIPTION:Details:\nhttps://bbyo.org/bbyo-near-you/regions/wisconsin-reg
 ion/wi-azaa-flag-football-(pc5000)
DTEND;VALUE=DATE:20161117
DTSTAMP:20260424T170816Z
DTSTART;VALUE=DATE:20160922
LOCATION:
SEQUENCE:0
SUMMARY:WI - AZAA Flag Football (PC5000)
UID:0f77cde6-93dd-41b0-bffd-365bd0023f32
END:VEVENT
END:VCALENDAR
