BEGIN:VCALENDAR
PRODID:-//github.com/rianjs/ical.net//NONSGML ical.net 4.0//EN
VERSION:2.0
BEGIN:VEVENT
DESCRIPTION:Details:\nhttps://bbyo.org/bbyo-near-you/regions/central-regio
 n-west/crw-winter-kickoff
DTEND:20240120T220000
DTSTAMP:20260420T153548Z
DTSTART:20240120T193000
LOCATION:San Jose California
SEQUENCE:0
SUMMARY:CRW Winter Kickoff
UID:3ca7f974-c1e2-4a4f-b4be-4b361cbce8ba
END:VEVENT
END:VCALENDAR
