BEGIN:VCALENDAR
PRODID:-//github.com/rianjs/ical.net//NONSGML ical.net 4.0//EN
VERSION:2.0
BEGIN:VEVENT
DESCRIPTION:Details:\nhttps://bbyo.org/bbyo-near-you/regions/north-texas-o
 klahoma-region/teen-mental-health-first-aid-training-cohort-3-(2)
DTEND:20221201T193000
DTSTAMP:20260420T180516Z
DTSTART:20221201T183000
LOCATION:Zoom
SEQUENCE:0
SUMMARY:Teen Mental Health First Aid Training - Cohort 3
UID:2e01baed-b3c1-42c3-92e6-c39734363d11
END:VEVENT
END:VCALENDAR
