BEGIN:VCALENDAR
PRODID:-//github.com/rianjs/ical.net//NONSGML ical.net 4.0//EN
VERSION:2.0
BEGIN:VEVENT
DESCRIPTION:Details:\nhttps://bbyo.org/bbyo-near-you/regions/wisconsin-reg
 ion/wi-oneg-9-18-15
DTEND;VALUE=DATE:20150918
DTSTAMP:20260424T004243Z
DTSTART;VALUE=DATE:20150918
LOCATION:
SEQUENCE:0
SUMMARY:WI - ONEG 9.18.15
UID:969d1d95-6c6b-4468-bc71-324c4a3c499b
END:VEVENT
END:VCALENDAR
