BEGIN:VCALENDAR
PRODID:-//github.com/rianjs/ical.net//NONSGML ical.net 4.0//EN
VERSION:2.0
BEGIN:VEVENT
DESCRIPTION:Details:\nhttps://bbyo.org/bbyo-near-you/regions/north-florida
 -region/nfr-j-serve-meals-of-hope-naples\n\nSummary:\nJewish teens will c
 ome together at Meals of Hope (Naples) to pack brown bags full of materia
 ls to assist and support our local homeless community.
DTEND:20190407T150000
DTSTAMP:20260423T002725Z
DTSTART:20190407T120000
LOCATION:Naples Florida
SEQUENCE:0
SUMMARY:NFR J-Serve: Meals of Hope- Naples
UID:177ec95e-3a2d-4c2a-baba-e175c54b6594
END:VEVENT
END:VCALENDAR
