BEGIN:VCALENDAR
PRODID:-//github.com/rianjs/ical.net//NONSGML ical.net 4.0//EN
VERSION:2.0
BEGIN:VEVENT
DESCRIPTION:Details:\nhttps://bbyo.org/bbyo-near-you/regions/lonestar-regi
 on/bbyo-parent-information-session\n\nSummary:\nProspect parents are invi
 ted to spend the evening learning about BBYO!
DTEND:20200201T210000
DTSTAMP:20260425T235251Z
DTSTART:20200201T190000
LOCATION:Shalom Austin
SEQUENCE:0
SUMMARY:BBYO Parent Information Session
UID:35e765b4-6572-433c-bb12-b59dc35a45e6
END:VEVENT
END:VCALENDAR
