BEGIN:VCALENDAR
PRODID:-//github.com/rianjs/ical.net//NONSGML ical.net 4.0//EN
VERSION:2.0
BEGIN:VEVENT
DESCRIPTION:Details:\nhttps://bbyo.org/bbyo-near-you/regions/northern-regi
 on-east-dc-council/northern-region-east-spring-parents-social!\n\nSummary
 :\nMingle with fellow NRE BBYO parents on Saturday\, May 11 at the JCC! D
 rop in anytime after teen drop-offs and before pick-ups. It’s our turn to
  party with noshes and fun. Visit with friends a
DTEND:20190511T220000
DTSTAMP:20260423T133826Z
DTSTART:20190511T193000
LOCATION:Rockville Maryland
SEQUENCE:0
SUMMARY:Northern Region East Spring Parents Social!
UID:e37b4833-8999-4dd5-80bf-c7cc3eee2bb7
END:VEVENT
END:VCALENDAR
