BEGIN:VCALENDAR
PRODID:-//github.com/rianjs/ical.net//NONSGML ical.net 4.0//EN
VERSION:2.0
BEGIN:VEVENT
DESCRIPTION:Details:\nhttps://bbyo.org/bbyo-near-you/regions/pacific-weste
 rn-region/ic-regional-stand-up-program-leukemia-lymphoma-soc\n\nSummary:\
 nJoin us in partnering with the Leukemia Lymphoma Society\, our Stand Up!
  Cause to write letters to our senators about the new 100 days agenda tha
 t LLS put together.
DTEND:20210214T160000
DTSTAMP:20260425T182815Z
DTSTART:20210214T150000
LOCATION:zoom
SEQUENCE:0
SUMMARY:IC Regional Stand Up Program - Leukemia Lymphoma Society
UID:0b1e196c-0a9e-47a5-a25c-100102160792
END:VEVENT
END:VCALENDAR
