BEGIN:VCALENDAR
PRODID:-//github.com/rianjs/ical.net//NONSGML ical.net 4.0//EN
VERSION:2.0
BEGIN:VEVENT
DESCRIPTION:Details:\nhttps://bbyo.org/bbyo-near-you/regions/nassau-suffol
 k-region/nsr-virtual-fall-convention-2020\n\nSummary:\nNSR Fall Conventio
 n is here! We will be hosting all of our favorite Convention moments virt
 ually throughout the entire weekend of November 13th\, 14th & 15th\, 2020
 . \n\nWe are all at home\, but
DTEND:20201115T140000
DTSTAMP:20260421T043652Z
DTSTART:20201113T170000
LOCATION:BBYO on Demand
SEQUENCE:0
SUMMARY:NSR Virtual Fall Convention 2020
UID:8ff436f1-68a1-4029-af88-d4a7ed4a1320
END:VEVENT
END:VCALENDAR
