BEGIN:VCALENDAR
PRODID:-//github.com/rianjs/ical.net//NONSGML ical.net 4.0//EN
VERSION:2.0
BEGIN:VEVENT
DESCRIPTION:Details:\nhttps://bbyo.org/bbyo-near-you/regions/northern-regi
 on-east-northern-virginia-council/nova-ic-registration-party!\n\nSummary:
 \nCome see what all the International Convention hype is about! Registrat
 ion opens world-wide at 8 pm on September 27th. Since IC is in Dallas thi
 s year\, the party is Texas themed\, along with
DTEND:20160927T210000
DTSTAMP:20260421T010545Z
DTSTART:20160927T193000
LOCATION:Congregation Etz Hayim
SEQUENCE:0
SUMMARY:NoVa IC Registration Party!
UID:94dc1f01-f852-43a4-a780-f0280e960b4d
END:VEVENT
END:VCALENDAR
